BEGIN:VCALENDAR
VERSION:2.0
PRODID:-//Ruhsal Farkındalık Akademisi - ECPv6.10.1//NONSGML v1.0//EN
CALSCALE:GREGORIAN
METHOD:PUBLISH
X-WR-CALNAME:Ruhsal Farkındalık Akademisi
X-ORIGINAL-URL:https://ruhsalfarkindalik.com
X-WR-CALDESC:Ruhsal Farkındalık Akademisi için etkinlikler
REFRESH-INTERVAL;VALUE=DURATION:PT1H
X-Robots-Tag:noindex
X-PUBLISHED-TTL:PT1H
BEGIN:VTIMEZONE
TZID:Europe/Moscow
BEGIN:STANDARD
TZOFFSETFROM:+0300
TZOFFSETTO:+0300
TZNAME:MSK
DTSTART:20230101T000000
END:STANDARD
END:VTIMEZONE
BEGIN:VEVENT
DTSTART;TZID=Europe/Moscow:20230706T213000
DTEND;TZID=Europe/Moscow:20230706T223000
DTSTAMP:20260422T203459
CREATED:20230704T195731Z
LAST-MODIFIED:20230704T195732Z
UID:9643-1688679000-1688682600@ruhsalfarkindalik.com
SUMMARY:Güneş Sirius Kavuşumu Sohbet&Meditasyon
DESCRIPTION:Bülent Doğdu İnstagram sayfasında… \ninstagram.com/bulentdogdu \n  \n 
URL:https://ruhsalfarkindalik.com/event/gunes-sirius-kavusumu-sohbetmeditasyon/
CATEGORIES:Online
ATTACH;FMTTYPE=image/jpeg:https://ruhsalfarkindalik.com/wp-content/uploads/2023/07/Gunes-Sirius.jpg
END:VEVENT
END:VCALENDAR