BEGIN:VCALENDAR
VERSION:2.0
PRODID:-//Ruhsal Farkındalık Akademisi - ECPv6.10.1//NONSGML v1.0//EN
CALSCALE:GREGORIAN
METHOD:PUBLISH
X-ORIGINAL-URL:https://ruhsalfarkindalik.com
X-WR-CALDESC:Ruhsal Farkındalık Akademisi için etkinlikler
REFRESH-INTERVAL;VALUE=DURATION:PT1H
X-Robots-Tag:noindex
X-PUBLISHED-TTL:PT1H
BEGIN:VTIMEZONE
TZID:Europe/Moscow
BEGIN:STANDARD
TZOFFSETFROM:+0300
TZOFFSETTO:+0300
TZNAME:MSK
DTSTART:20230101T000000
END:STANDARD
END:VTIMEZONE
BEGIN:VEVENT
DTSTART;TZID=Europe/Moscow:20231122T183000
DTEND;TZID=Europe/Moscow:20231122T193000
DTSTAMP:20260423T095154
CREATED:20231114T001555Z
LAST-MODIFIED:20231114T001629Z
UID:9852-1700677800-1700681400@ruhsalfarkindalik.com
SUMMARY:Bilinçli Farkındalık Semineri
DESCRIPTION:Bülent Doğdu ile Bilinçli Farkındalık Semineri 22 Kasım Çarşamba 18:30’da Eskişehir Odunpazarı Aladdin Park Cafe’de gerçekleşecektir. \nProgram içeriği: \nYaşadığın Sorunların Sebebi ve Çözüm Yolları \n\nAtalardan Genetik Aktarımların Etkileri\nYaşamındaki Sorunlar ve Kısır Döngüler\nSpiritüel Bioenerji Seans Demo Uygulaması\nArınma Meditasyonu\n\nKatılım ücretsizdir. \nEtkinlik kayıt linki: https://ruhsalfarkindalik.com/egitim/bilincli-farkindalik-semineri/ \nSorularınız için: 0538 693 63 69
URL:https://ruhsalfarkindalik.com/event/bilincli-farkindalik-semineri/
CATEGORIES:Yüz Yüze
ATTACH;FMTTYPE=image/jpeg:https://ruhsalfarkindalik.com/wp-content/uploads/2023/11/WhatsApp-Image-2023-11-07-at-13.39.51.jpeg
END:VEVENT
END:VCALENDAR