BEGIN:VCALENDAR
VERSION:2.0
PRODID:-//Ruhsal Farkındalık Akademisi - ECPv6.10.1//NONSGML v1.0//EN
CALSCALE:GREGORIAN
METHOD:PUBLISH
X-ORIGINAL-URL:https://ruhsalfarkindalik.com
X-WR-CALDESC:Ruhsal Farkındalık Akademisi için etkinlikler
REFRESH-INTERVAL;VALUE=DURATION:PT1H
X-Robots-Tag:noindex
X-PUBLISHED-TTL:PT1H
BEGIN:VTIMEZONE
TZID:Europe/Moscow
BEGIN:STANDARD
TZOFFSETFROM:+0300
TZOFFSETTO:+0300
TZNAME:MSK
DTSTART:20230101T000000
END:STANDARD
END:VTIMEZONE
BEGIN:VEVENT
DTSTART;VALUE=DATE:20231216
DTEND;VALUE=DATE:20231218
DTSTAMP:20260421T142154
CREATED:20231026T111622Z
LAST-MODIFIED:20231026T111622Z
UID:9801-1702684800-1702857599@ruhsalfarkindalik.com
SUMMARY:Şeb-i Arus Buluşması
DESCRIPTION:16-17 Aralık’ta Konya’da Şeb-i Arus etkinliklerinde bir araya geliyoruz. \n16 Aralık Cumartesi öğlen Konya’da buluşup\, gezi ve ziyaretlerden sonra 20:00’da Şeb-i Arus törenine katılıyoruz. \n17 Aralık Pazar günü yine gezi ve ziyaretlerle birlikte akşam üzeri Konya’dan ayrılıyoruz. \nBuluşma için sabit bir hareket veya paket bir program oluşturmadık. Geçen yıl olduğu gibi akışta gerçekleşecek bir program olacak. \nToplu bir ücret olmayıp\, herkes kendi ücretlerini karşılamaktadır. \nGenel ücretler ise şöyle: \nTören bileti: 200₺ \nKonaklama: 1500₺ civarında \n  \nSiz de bizimle bir arada olmak isterseniz 0538 693 63 69’dan iletişime geçebilirsiniz.
URL:https://ruhsalfarkindalik.com/event/seb-i-arus-bulusmasi/
CATEGORIES:Yüz Yüze
ATTACH;FMTTYPE=image/jpeg:https://ruhsalfarkindalik.com/wp-content/uploads/2023/10/WhatsApp-Image-2023-10-23-at-19.33.23.jpeg
END:VEVENT
BEGIN:VEVENT
DTSTART;VALUE=DATE:20231209
DTEND;VALUE=DATE:20231211
DTSTAMP:20260421T142154
CREATED:20230704T194136Z
LAST-MODIFIED:20231026T111405Z
UID:9635-1702080000-1702252799@ruhsalfarkindalik.com
SUMMARY:Spiritüel Bioenerji Uygulayıcılık Eğitimi (1.Modül) - İstanbul
DESCRIPTION:Nikola Tesla: “Eğer evrenin sırlarını bulmayı arzuluyorsanız enerji\, frekans ve titreşimler üzerinden düşünün.” Gelecekte olup bitecekler de evrenin sırlarından biri. demiştir. Spiritüel Bioenerji eğitimimiz hem enerji\, hem frekans hem de titreşim üzerine hazırlanmıştır. \nSpiritüel Bioenerji Uygulayıcılık Eğitimi (1.Modül) 9-10 Aralık’ta İstanbul Suadiye ofisimizde gerçekleşecektir. \nEğitim ile ilgili detaylara linkten erişebilirsiniz. \nhttps://ruhsalfarkindalik.com/egitim/spirituel-bioenerji-uygulayicilik-egitimi-1-modul-istanbul/ \n 
URL:https://ruhsalfarkindalik.com/event/spirituel-bioenerji-uygulayicilik-egitimi-1-modul-istanbul/
CATEGORIES:Yüz Yüze
ATTACH;FMTTYPE=image/jpeg:https://ruhsalfarkindalik.com/wp-content/uploads/2023/07/WhatsApp-Image-2023-10-23-at-19.36.22.jpeg
END:VEVENT
BEGIN:VEVENT
DTSTART;TZID=Europe/Moscow:20231203T110000
DTEND;TZID=Europe/Moscow:20231203T180000
DTSTAMP:20260421T142154
CREATED:20230704T194742Z
LAST-MODIFIED:20231026T111158Z
UID:9639-1701601200-1701626400@ruhsalfarkindalik.com
SUMMARY:Aile Dizimi Grup Çalışması – İstanbul
DESCRIPTION:Aile dizimininde hem anne hem baba soyundan size aktarılan fiziksel ve ruhsal durumların şifalanması üzerine açılım gerçekleşmektedir. \nKimler Katılmalı: \n\nAile içinde sevgisizlik\, başarısızlık\, iflas\, borç\, sağlık sorunları gibi sorunları yaşayanlar\,\nİlişkilerinde aile ile bezer sorunları yaşayanlar\,\nPara\, bolluk bereket\, borç sorunlarını yaşayanlar\,\nSebebini bilmediği öfke patlamaları\, utanç\, suçluluk duyguları yaşayanlar\,\nİlişkilerde benzer kişi ve olayları hayatlarına çekenler\,\nAile ile bağlarında sorun olanlar\nHayatında çözemediği\, sebebini bilmediği huzursuzluk\, sorun yaşayanlar\n\nLinkten detayları inceleyebilirsiniz. \nhttps://ruhsalfarkindalik.com/urun/aile-dizimi-grup-calismasi-istanbul/ \n 
URL:https://ruhsalfarkindalik.com/event/aile-dizimi-grup-calismasi-istanbul/
CATEGORIES:Yüz Yüze
ATTACH;FMTTYPE=image/jpeg:https://ruhsalfarkindalik.com/wp-content/uploads/2023/07/WhatsApp-Image-2023-10-23-at-19.56.02.jpeg
END:VEVENT
BEGIN:VEVENT
DTSTART;TZID=Europe/Moscow:20231126T110000
DTEND;TZID=Europe/Moscow:20231126T180000
DTSTAMP:20260421T142154
CREATED:20230704T194531Z
LAST-MODIFIED:20231003T083049Z
UID:9637-1700996400-1701021600@ruhsalfarkindalik.com
SUMMARY:Aile Dizimi Grup Çalışması - Eskişehir
DESCRIPTION:Aile dizimininde hem anne hem baba soyundan size aktarılan fiziksel ve ruhsal durumların şifalanması üzerine açılım gerçekleşmektedir. \nKimler Katılmalı: \n\nAile içinde sevgisizlik\, başarısızlık\, iflas\, borç\, sağlık sorunları gibi sorunları yaşayanlar\,\nİlişkilerinde aile ile bezer sorunları yaşayanlar\,\nPara\, bolluk bereket\, borç sorunlarını yaşayanlar\,\nSebebini bilmediği öfke patlamaları\, utanç\, suçluluk duyguları yaşayanlar\,\nİlişkilerde benzer kişi ve olayları hayatlarına çekenler\,\nAile ile bağlarında sorun olanlar\nHayatında çözemediği\, sebebini bilmediği huzursuzluk\, sorun yaşayanlar\n\nLinkten detayları inceleyebilirsiniz. \nhttps://ruhsalfarkindalik.com/urun/aile-dizimi-grup-calismasi-eskisehir/ \n 
URL:https://ruhsalfarkindalik.com/event/aile-dizimi-grup-calismasi-eskisehir/
LOCATION:Ruhsal Farkındalık Akademisi\, Eskişehir\, Türkiye
CATEGORIES:Yüz Yüze
ATTACH;FMTTYPE=image/jpeg:https://ruhsalfarkindalik.com/wp-content/uploads/2023/07/WhatsApp-Image-2023-09-30-at-14.35.42.jpeg
END:VEVENT
BEGIN:VEVENT
DTSTART;TZID=Europe/Moscow:20231122T183000
DTEND;TZID=Europe/Moscow:20231122T193000
DTSTAMP:20260421T142154
CREATED:20231114T001555Z
LAST-MODIFIED:20231114T001629Z
UID:9852-1700677800-1700681400@ruhsalfarkindalik.com
SUMMARY:Bilinçli Farkındalık Semineri
DESCRIPTION:Bülent Doğdu ile Bilinçli Farkındalık Semineri 22 Kasım Çarşamba 18:30’da Eskişehir Odunpazarı Aladdin Park Cafe’de gerçekleşecektir. \nProgram içeriği: \nYaşadığın Sorunların Sebebi ve Çözüm Yolları \n\nAtalardan Genetik Aktarımların Etkileri\nYaşamındaki Sorunlar ve Kısır Döngüler\nSpiritüel Bioenerji Seans Demo Uygulaması\nArınma Meditasyonu\n\nKatılım ücretsizdir. \nEtkinlik kayıt linki: https://ruhsalfarkindalik.com/egitim/bilincli-farkindalik-semineri/ \nSorularınız için: 0538 693 63 69
URL:https://ruhsalfarkindalik.com/event/bilincli-farkindalik-semineri/
CATEGORIES:Yüz Yüze
ATTACH;FMTTYPE=image/jpeg:https://ruhsalfarkindalik.com/wp-content/uploads/2023/11/WhatsApp-Image-2023-11-07-at-13.39.51.jpeg
END:VEVENT
BEGIN:VEVENT
DTSTART;TZID=Europe/Moscow:20231119T110000
DTEND;TZID=Europe/Moscow:20231119T180000
DTSTAMP:20260421T142154
CREATED:20231026T111112Z
LAST-MODIFIED:20231026T111112Z
UID:9798-1700391600-1700416800@ruhsalfarkindalik.com
SUMMARY:Aile Dizimi Grup Çalışması - Adana
DESCRIPTION:Aile dizimininde hem anne hem baba soyundan size aktarılan fiziksel ve ruhsal durumların şifalanması üzerine açılım gerçekleşmektedir. \nKimler Katılmalı: \n\nAile içinde sevgisizlik\, başarısızlık\, iflas\, borç\, sağlık sorunları gibi sorunları yaşayanlar\,\nİlişkilerinde aile ile bezer sorunları yaşayanlar\,\nPara\, bolluk bereket\, borç sorunlarını yaşayanlar\,\nSebebini bilmediği öfke patlamaları\, utanç\, suçluluk duyguları yaşayanlar\,\nİlişkilerde benzer kişi ve olayları hayatlarına çekenler\,\nAile ile bağlarında sorun olanlar\nHayatında çözemediği\, sebebini bilmediği huzursuzluk\, sorun yaşayanlar\n\nLinkten detayları inceleyebilirsiniz. \nhttps://ruhsalfarkindalik.com/egitim/aile-dizimi-grup-calismasi-adana/ \n 
URL:https://ruhsalfarkindalik.com/event/aile-dizimi-grup-calismasi-adana/
CATEGORIES:Yüz Yüze
ATTACH;FMTTYPE=image/jpeg:https://ruhsalfarkindalik.com/wp-content/uploads/2023/10/WhatsApp-Image-2023-10-23-at-19.56.02-1.jpeg
END:VEVENT
BEGIN:VEVENT
DTSTART;VALUE=DATE:20231111
DTEND;VALUE=DATE:20231115
DTSTAMP:20260421T142154
CREATED:20231026T111820Z
LAST-MODIFIED:20231026T111821Z
UID:9803-1699660800-1700006399@ruhsalfarkindalik.com
SUMMARY:Bilinçaltı Dönüşüm Kampı
DESCRIPTION:Hepimiz hayatımızda birçok sorun yaşıyoruz ve bu sorunları kaynağınından çözmediğin sürece maalesef kısır bir döngü şeklinde devam ediyor. \nBülent Doğdu rehberliğinde gerçekleşen Bilinçaltı Dönüşüm Kampları geçmişten bugüne taşıdığımız\, bilinçaltımızda ve bedenimizde kayıtlı olan sorunların duygusal sebeplerini çözmek\, şifalandırmak üzerine planlanmıştır. \nKendine dönme yolculuğunda çok önemli bir adım olan Bilinçaltı Dönüşüm Kampımız 11-14 Kasım 2023 tarihlerinde Antalya Adrasan Papirus Otel’de gerçekleşecektir. Yılın son deniz tatili ve bu yılın son Bilinçaltı Dönüşüm Kampıdır. \nKendine verebileceğin en büyük hediyelerden biri olan bu kamp ile 2024’e yepyeni girmeye ne dersin? \nLinkten detayları inceleyebilirsiniz. \nBilinçaltı Dönüşüm Kampı
URL:https://ruhsalfarkindalik.com/event/bilincalti-donusum-kampi/
CATEGORIES:Yüz Yüze
ATTACH;FMTTYPE=image/jpeg:https://ruhsalfarkindalik.com/wp-content/uploads/2023/10/WhatsApp-Image-2023-10-26-at-13.39.46.jpeg
END:VEVENT
BEGIN:VEVENT
DTSTART;VALUE=DATE:20231028
DTEND;VALUE=DATE:20231030
DTSTAMP:20260421T142154
CREATED:20230704T193926Z
LAST-MODIFIED:20231003T083000Z
UID:9632-1698451200-1698623999@ruhsalfarkindalik.com
SUMMARY:Spiritüel Bioenerji Uygulayıcılık Eğitimi (1.Modül)
DESCRIPTION:Nikola Tesla: “Eğer evrenin sırlarını bulmayı arzuluyorsanız enerji\, frekans ve titreşimler üzerinden düşünün.” Gelecekte olup bitecekler de evrenin sırlarından biri. demiştir. Spiritüel Bioenerji eğitimimiz hem enerji\, hem frekans hem de titreşim üzerine hazırlanmıştır. \nSpiritüel Bioenerji Uygulayıcılık Eğitimi (1.Modül) 28-29 Ekim’de Eskişehir Ruhsal Farkındalık Akademisi’nde gerçekleşecektir. \nEğitim ile ilgili detaylara linkten erişebilirsiniz. \nhttps://ruhsalfarkindalik.com/urun/spirituel-bioenerji-uygulayicilik-egitimi-1-modul/ \n 
URL:https://ruhsalfarkindalik.com/event/spirituel-bioenerji-uygulayicilik-egitimi-1-modul/
LOCATION:Ruhsal Farkındalık Akademisi\, Eskişehir\, Türkiye
CATEGORIES:Yüz Yüze
ATTACH;FMTTYPE=image/jpeg:https://ruhsalfarkindalik.com/wp-content/uploads/2023/07/WhatsApp-Image-2023-09-26-at-20.06.00.jpeg
END:VEVENT
BEGIN:VEVENT
DTSTART;VALUE=DATE:20230820
DTEND;VALUE=DATE:20230828
DTSTAMP:20260421T142154
CREATED:20230704T205101Z
LAST-MODIFIED:20230704T205101Z
UID:9650-1692489600-1693180799@ruhsalfarkindalik.com
SUMMARY:Ruhsal Farkındalık Derin İnziva Kampı (7 gece 8 gün)
DESCRIPTION:Ruhsal Farkındalık Derin İnziva\, kadim öğretiler\, tasavvuf ve kuantum ışığında\, bilinçaltı arınmalarının olduğu\, bedende tutulan duyguları bıraktığınız\, özünüzü hissedip yaşamaya başladığınız bir kamp olmasına niyet ettik. Zihin-Beden-Ruh dengesini kuracağınız\, yoğun grup çalışmaları ve bireysel inzivalarınızın olduğu bir yolculuk olacak.
URL:https://ruhsalfarkindalik.com/event/ruhsal-farkindalik-derin-inziva-kampi-7-gece-8-gun/
CATEGORIES:Yüz Yüze
ATTACH;FMTTYPE=image/jpeg:https://ruhsalfarkindalik.com/wp-content/uploads/2023/07/Kamp-Tasarim-derin-inziva-copy.jpg
END:VEVENT
BEGIN:VEVENT
DTSTART;TZID=Europe/Moscow:20230706T213000
DTEND;TZID=Europe/Moscow:20230706T223000
DTSTAMP:20260421T142154
CREATED:20230704T195731Z
LAST-MODIFIED:20230704T195732Z
UID:9643-1688679000-1688682600@ruhsalfarkindalik.com
SUMMARY:Güneş Sirius Kavuşumu Sohbet&Meditasyon
DESCRIPTION:Bülent Doğdu İnstagram sayfasında… \ninstagram.com/bulentdogdu \n  \n 
URL:https://ruhsalfarkindalik.com/event/gunes-sirius-kavusumu-sohbetmeditasyon/
CATEGORIES:Online
ATTACH;FMTTYPE=image/jpeg:https://ruhsalfarkindalik.com/wp-content/uploads/2023/07/Gunes-Sirius.jpg
END:VEVENT
END:VCALENDAR